BEGIN:VCALENDAR
VERSION:2.0
PRODID:-//Sandwell Carers - ECPv6.14.0//NONSGML v1.0//EN
CALSCALE:GREGORIAN
METHOD:PUBLISH
X-WR-CALNAME:Sandwell Carers
X-ORIGINAL-URL:https://sandwellcarers.org.uk
X-WR-CALDESC:Events for Sandwell Carers
REFRESH-INTERVAL;VALUE=DURATION:PT1H
X-Robots-Tag:noindex
X-PUBLISHED-TTL:PT1H
BEGIN:VTIMEZONE
TZID:UTC
BEGIN:STANDARD
TZOFFSETFROM:+0000
TZOFFSETTO:+0000
TZNAME:UTC
DTSTART:20260101T000000
END:STANDARD
END:VTIMEZONE
BEGIN:VEVENT
DTSTART;TZID=UTC:20260420T103000
DTEND;TZID=UTC:20260420T113000
DTSTAMP:20260419T144504
CREATED:20260121T143801Z
LAST-MODIFIED:20260121T144326Z
UID:10001015-1776681000-1776684600@sandwellcarers.org.uk
SUMMARY:The Friendship Club (Weekly)
DESCRIPTION:Run by St Albans Community Association\, The Friendship Club is a friendly\, welcoming weekly group offering a safe space to connect with others\, enjoy social activities\, and feel supported. \nTaking place every Monday\, 10:30am–11:30am at St Albans Community Association\, Smethwick\, the group is open to anyone looking to make new friends\, enjoy relaxed conversation\, and access light-touch advice and signposting in a judgement-free environment. \nA great opportunity to build connections\, reduce loneliness\, and feel part of your local community. \n\n🗓️ Every Monday\n⏰ 10:30am – 11:30am\n📍 St Albans Road\, Smethwick\, B67 7NL\n🏷️ FREE\n\nFor more information\, call 0121 558 0018. \nAnyone is welcome\, we hope to see you there!
URL:https://sandwellcarers.org.uk/event/the-friendship-club-weekly/2026-04-20/
LOCATION:St Albans Community Centre\, St Albans Community Centre Smethwick\, Birmingham\, B67 7NL
ATTACH;FMTTYPE=image/png:https://sandwellcarers.org.uk/wp-content/uploads/2026/01/Screenshot-2026-01-21-at-14.39.17.png
ORGANIZER;CN="St Albans Community Association":MAILTO:INFO@STALBANS-CC.CO.UK
END:VEVENT
BEGIN:VEVENT
DTSTART;TZID=UTC:20260427T103000
DTEND;TZID=UTC:20260427T113000
DTSTAMP:20260419T144504
CREATED:20260121T143801Z
LAST-MODIFIED:20260121T144326Z
UID:10001016-1777285800-1777289400@sandwellcarers.org.uk
SUMMARY:The Friendship Club (Weekly)
DESCRIPTION:Run by St Albans Community Association\, The Friendship Club is a friendly\, welcoming weekly group offering a safe space to connect with others\, enjoy social activities\, and feel supported. \nTaking place every Monday\, 10:30am–11:30am at St Albans Community Association\, Smethwick\, the group is open to anyone looking to make new friends\, enjoy relaxed conversation\, and access light-touch advice and signposting in a judgement-free environment. \nA great opportunity to build connections\, reduce loneliness\, and feel part of your local community. \n\n🗓️ Every Monday\n⏰ 10:30am – 11:30am\n📍 St Albans Road\, Smethwick\, B67 7NL\n🏷️ FREE\n\nFor more information\, call 0121 558 0018. \nAnyone is welcome\, we hope to see you there!
URL:https://sandwellcarers.org.uk/event/the-friendship-club-weekly/2026-04-27/
LOCATION:St Albans Community Centre\, St Albans Community Centre Smethwick\, Birmingham\, B67 7NL
ATTACH;FMTTYPE=image/png:https://sandwellcarers.org.uk/wp-content/uploads/2026/01/Screenshot-2026-01-21-at-14.39.17.png
ORGANIZER;CN="St Albans Community Association":MAILTO:INFO@STALBANS-CC.CO.UK
END:VEVENT
BEGIN:VEVENT
DTSTART;TZID=UTC:20260504T103000
DTEND;TZID=UTC:20260504T113000
DTSTAMP:20260419T144504
CREATED:20260121T143801Z
LAST-MODIFIED:20260121T144326Z
UID:10001017-1777890600-1777894200@sandwellcarers.org.uk
SUMMARY:The Friendship Club (Weekly)
DESCRIPTION:Run by St Albans Community Association\, The Friendship Club is a friendly\, welcoming weekly group offering a safe space to connect with others\, enjoy social activities\, and feel supported. \nTaking place every Monday\, 10:30am–11:30am at St Albans Community Association\, Smethwick\, the group is open to anyone looking to make new friends\, enjoy relaxed conversation\, and access light-touch advice and signposting in a judgement-free environment. \nA great opportunity to build connections\, reduce loneliness\, and feel part of your local community. \n\n🗓️ Every Monday\n⏰ 10:30am – 11:30am\n📍 St Albans Road\, Smethwick\, B67 7NL\n🏷️ FREE\n\nFor more information\, call 0121 558 0018. \nAnyone is welcome\, we hope to see you there!
URL:https://sandwellcarers.org.uk/event/the-friendship-club-weekly/2026-05-04/
LOCATION:St Albans Community Centre\, St Albans Community Centre Smethwick\, Birmingham\, B67 7NL
ATTACH;FMTTYPE=image/png:https://sandwellcarers.org.uk/wp-content/uploads/2026/01/Screenshot-2026-01-21-at-14.39.17.png
ORGANIZER;CN="St Albans Community Association":MAILTO:INFO@STALBANS-CC.CO.UK
END:VEVENT
BEGIN:VEVENT
DTSTART;TZID=UTC:20260511T103000
DTEND;TZID=UTC:20260511T113000
DTSTAMP:20260419T144504
CREATED:20260121T143801Z
LAST-MODIFIED:20260121T144326Z
UID:10001018-1778495400-1778499000@sandwellcarers.org.uk
SUMMARY:The Friendship Club (Weekly)
DESCRIPTION:Run by St Albans Community Association\, The Friendship Club is a friendly\, welcoming weekly group offering a safe space to connect with others\, enjoy social activities\, and feel supported. \nTaking place every Monday\, 10:30am–11:30am at St Albans Community Association\, Smethwick\, the group is open to anyone looking to make new friends\, enjoy relaxed conversation\, and access light-touch advice and signposting in a judgement-free environment. \nA great opportunity to build connections\, reduce loneliness\, and feel part of your local community. \n\n🗓️ Every Monday\n⏰ 10:30am – 11:30am\n📍 St Albans Road\, Smethwick\, B67 7NL\n🏷️ FREE\n\nFor more information\, call 0121 558 0018. \nAnyone is welcome\, we hope to see you there!
URL:https://sandwellcarers.org.uk/event/the-friendship-club-weekly/2026-05-11/
LOCATION:St Albans Community Centre\, St Albans Community Centre Smethwick\, Birmingham\, B67 7NL
ATTACH;FMTTYPE=image/png:https://sandwellcarers.org.uk/wp-content/uploads/2026/01/Screenshot-2026-01-21-at-14.39.17.png
ORGANIZER;CN="St Albans Community Association":MAILTO:INFO@STALBANS-CC.CO.UK
END:VEVENT
BEGIN:VEVENT
DTSTART;TZID=UTC:20260518T103000
DTEND;TZID=UTC:20260518T113000
DTSTAMP:20260419T144504
CREATED:20260121T143801Z
LAST-MODIFIED:20260121T144326Z
UID:10001019-1779100200-1779103800@sandwellcarers.org.uk
SUMMARY:The Friendship Club (Weekly)
DESCRIPTION:Run by St Albans Community Association\, The Friendship Club is a friendly\, welcoming weekly group offering a safe space to connect with others\, enjoy social activities\, and feel supported. \nTaking place every Monday\, 10:30am–11:30am at St Albans Community Association\, Smethwick\, the group is open to anyone looking to make new friends\, enjoy relaxed conversation\, and access light-touch advice and signposting in a judgement-free environment. \nA great opportunity to build connections\, reduce loneliness\, and feel part of your local community. \n\n🗓️ Every Monday\n⏰ 10:30am – 11:30am\n📍 St Albans Road\, Smethwick\, B67 7NL\n🏷️ FREE\n\nFor more information\, call 0121 558 0018. \nAnyone is welcome\, we hope to see you there!
URL:https://sandwellcarers.org.uk/event/the-friendship-club-weekly/2026-05-18/
LOCATION:St Albans Community Centre\, St Albans Community Centre Smethwick\, Birmingham\, B67 7NL
ATTACH;FMTTYPE=image/png:https://sandwellcarers.org.uk/wp-content/uploads/2026/01/Screenshot-2026-01-21-at-14.39.17.png
ORGANIZER;CN="St Albans Community Association":MAILTO:INFO@STALBANS-CC.CO.UK
END:VEVENT
BEGIN:VEVENT
DTSTART;TZID=UTC:20260525T103000
DTEND;TZID=UTC:20260525T113000
DTSTAMP:20260419T144504
CREATED:20260121T143801Z
LAST-MODIFIED:20260121T144326Z
UID:10001020-1779705000-1779708600@sandwellcarers.org.uk
SUMMARY:The Friendship Club (Weekly)
DESCRIPTION:Run by St Albans Community Association\, The Friendship Club is a friendly\, welcoming weekly group offering a safe space to connect with others\, enjoy social activities\, and feel supported. \nTaking place every Monday\, 10:30am–11:30am at St Albans Community Association\, Smethwick\, the group is open to anyone looking to make new friends\, enjoy relaxed conversation\, and access light-touch advice and signposting in a judgement-free environment. \nA great opportunity to build connections\, reduce loneliness\, and feel part of your local community. \n\n🗓️ Every Monday\n⏰ 10:30am – 11:30am\n📍 St Albans Road\, Smethwick\, B67 7NL\n🏷️ FREE\n\nFor more information\, call 0121 558 0018. \nAnyone is welcome\, we hope to see you there!
URL:https://sandwellcarers.org.uk/event/the-friendship-club-weekly/2026-05-25/
LOCATION:St Albans Community Centre\, St Albans Community Centre Smethwick\, Birmingham\, B67 7NL
ATTACH;FMTTYPE=image/png:https://sandwellcarers.org.uk/wp-content/uploads/2026/01/Screenshot-2026-01-21-at-14.39.17.png
ORGANIZER;CN="St Albans Community Association":MAILTO:INFO@STALBANS-CC.CO.UK
END:VEVENT
BEGIN:VEVENT
DTSTART;TZID=UTC:20260601T103000
DTEND;TZID=UTC:20260601T113000
DTSTAMP:20260419T144504
CREATED:20260121T143801Z
LAST-MODIFIED:20260121T144326Z
UID:10001021-1780309800-1780313400@sandwellcarers.org.uk
SUMMARY:The Friendship Club (Weekly)
DESCRIPTION:Run by St Albans Community Association\, The Friendship Club is a friendly\, welcoming weekly group offering a safe space to connect with others\, enjoy social activities\, and feel supported. \nTaking place every Monday\, 10:30am–11:30am at St Albans Community Association\, Smethwick\, the group is open to anyone looking to make new friends\, enjoy relaxed conversation\, and access light-touch advice and signposting in a judgement-free environment. \nA great opportunity to build connections\, reduce loneliness\, and feel part of your local community. \n\n🗓️ Every Monday\n⏰ 10:30am – 11:30am\n📍 St Albans Road\, Smethwick\, B67 7NL\n🏷️ FREE\n\nFor more information\, call 0121 558 0018. \nAnyone is welcome\, we hope to see you there!
URL:https://sandwellcarers.org.uk/event/the-friendship-club-weekly/2026-06-01/
LOCATION:St Albans Community Centre\, St Albans Community Centre Smethwick\, Birmingham\, B67 7NL
ATTACH;FMTTYPE=image/png:https://sandwellcarers.org.uk/wp-content/uploads/2026/01/Screenshot-2026-01-21-at-14.39.17.png
ORGANIZER;CN="St Albans Community Association":MAILTO:INFO@STALBANS-CC.CO.UK
END:VEVENT
BEGIN:VEVENT
DTSTART;TZID=UTC:20260608T103000
DTEND;TZID=UTC:20260608T113000
DTSTAMP:20260419T144504
CREATED:20260121T143801Z
LAST-MODIFIED:20260121T144326Z
UID:10001022-1780914600-1780918200@sandwellcarers.org.uk
SUMMARY:The Friendship Club (Weekly)
DESCRIPTION:Run by St Albans Community Association\, The Friendship Club is a friendly\, welcoming weekly group offering a safe space to connect with others\, enjoy social activities\, and feel supported. \nTaking place every Monday\, 10:30am–11:30am at St Albans Community Association\, Smethwick\, the group is open to anyone looking to make new friends\, enjoy relaxed conversation\, and access light-touch advice and signposting in a judgement-free environment. \nA great opportunity to build connections\, reduce loneliness\, and feel part of your local community. \n\n🗓️ Every Monday\n⏰ 10:30am – 11:30am\n📍 St Albans Road\, Smethwick\, B67 7NL\n🏷️ FREE\n\nFor more information\, call 0121 558 0018. \nAnyone is welcome\, we hope to see you there!
URL:https://sandwellcarers.org.uk/event/the-friendship-club-weekly/2026-06-08/
LOCATION:St Albans Community Centre\, St Albans Community Centre Smethwick\, Birmingham\, B67 7NL
ATTACH;FMTTYPE=image/png:https://sandwellcarers.org.uk/wp-content/uploads/2026/01/Screenshot-2026-01-21-at-14.39.17.png
ORGANIZER;CN="St Albans Community Association":MAILTO:INFO@STALBANS-CC.CO.UK
END:VEVENT
END:VCALENDAR