BEGIN:VCALENDAR
VERSION:2.0
PRODID:-//Sandwell Carers - ECPv6.14.0//NONSGML v1.0//EN
CALSCALE:GREGORIAN
METHOD:PUBLISH
X-WR-CALNAME:Sandwell Carers
X-ORIGINAL-URL:https://sandwellcarers.org.uk
X-WR-CALDESC:Events for Sandwell Carers
REFRESH-INTERVAL;VALUE=DURATION:PT1H
X-Robots-Tag:noindex
X-PUBLISHED-TTL:PT1H
BEGIN:VTIMEZONE
TZID:UTC
BEGIN:STANDARD
TZOFFSETFROM:+0000
TZOFFSETTO:+0000
TZNAME:UTC
DTSTART:20260101T000000
END:STANDARD
END:VTIMEZONE
BEGIN:VEVENT
DTSTART;TZID=UTC:20260618T120000
DTEND;TZID=UTC:20260618T130000
DTSTAMP:20260422T090959
CREATED:20260414T111734Z
LAST-MODIFIED:20260414T111734Z
UID:10001878-1781784000-1781787600@sandwellcarers.org.uk
SUMMARY:Free Food Sessions - Table For All
DESCRIPTION:Join us for a free community food sessions are open to everyone\, offering support with no sign-ups or requirements—just turn up and take what you need. It’s a welcoming space focused on kindness and helping people access food easily. \n\nWhen:\n\nMondays: 1:30 PM – 2:30 PM\nThursdays: 12:00 PM – 1:00 PM\n\n\nWhere: Sunley Suite\, St Albans Community Association\, St Albans Road\, Smethwick\, B67 7NL\nNote: Bring your own bag\n\n 
URL:https://sandwellcarers.org.uk/event/free-food-sessions-table-for-all-2/2026-06-18/
LOCATION:St Albans Community Centre\, St Albans Community Centre Smethwick\, Birmingham\, B67 7NL
ATTACH;FMTTYPE=image/png:https://sandwellcarers.org.uk/wp-content/uploads/2026/04/Screenshot-2026-04-14-114733.png
END:VEVENT
BEGIN:VEVENT
DTSTART;TZID=UTC:20260618T170000
DTEND;TZID=UTC:20260618T180000
DTSTAMP:20260422T090959
CREATED:20260421T154746Z
LAST-MODIFIED:20260421T155112Z
UID:10002148-1781802000-1781805600@sandwellcarers.org.uk
SUMMARY:Kissing it Better - Coffee catch up(online)
DESCRIPTION:Join free Carers Coffee Catch-ups on Zoom Mondays & Fridays at 10:30am & Thursdays at 5pm. Connect\, share\, & find support with fellow carers \nIntroducing “Carers’ Coffee Catch-ups” by Kissing it Better in partnership with Forward Carers \nJoin us every Monday and Friday at 10:30 am and Thursdays at 5.00 pm on Zoom for heartwarming conversations and peer support\, designed exclusively for caregivers like you! \nAt Kissing it Better\, we understand the tireless efforts and dedication of carers\, and we believe you deserve a special space to unwind and connect with others who share similar experiences. That’s why we are delighted to present our “Carers’ Coffee Mornings” – a series of online gatherings crafted just for you! \nGrab your favorite tea or coffee\, and prepare to be uplifted by the power of community\, as you engage with fellow carers from the comfort of your home. \nShare your stories\, laugh\, and find solace in the company of those who understand the challenges and joys of caregiving. \nWhether you want to actively participate or simply listen in\, with or without your camera on – the choice is entirely yours. \nAnd the best part? It’s absolutely FREE! \nDon’t miss this chance to meet new friends\, forge meaningful connections\, and find the support you deserve as a caregiver. \nEvery Monday and Friday at 10:30 AM and Thursday at 5PM \nLet’s raise our cups to the incredible work you do as caregivers – we can’t wait to welcome you to our vibrant community! \nRegister to join here. \nOr you can email mail@kibmail.co.uk or call 07831 136152.
URL:https://sandwellcarers.org.uk/event/kissing-it-better-forward-carers-coffee-online/2026-06-18/
LOCATION:Online
ATTACH;FMTTYPE=image/png:https://sandwellcarers.org.uk/wp-content/uploads/2026/04/kib-coffee-mornings.png
ORGANIZER;CN="Kissing It Better":MAILTO:mail@kibmail.co.uk
END:VEVENT
END:VCALENDAR