BEGIN:VCALENDAR
VERSION:2.0
PRODID:-//Sandwell Carers - ECPv6.14.0//NONSGML v1.0//EN
CALSCALE:GREGORIAN
METHOD:PUBLISH
X-ORIGINAL-URL:https://sandwellcarers.org.uk
X-WR-CALDESC:Events for Sandwell Carers
REFRESH-INTERVAL;VALUE=DURATION:PT1H
X-Robots-Tag:noindex
X-PUBLISHED-TTL:PT1H
BEGIN:VTIMEZONE
TZID:UTC
BEGIN:STANDARD
TZOFFSETFROM:+0000
TZOFFSETTO:+0000
TZNAME:UTC
DTSTART:20260101T000000
END:STANDARD
END:VTIMEZONE
BEGIN:VEVENT
DTSTART;TZID=UTC:20260519T080000
DTEND;TZID=UTC:20260519T170000
DTSTAMP:20260422T144838
CREATED:20260415T150651Z
LAST-MODIFIED:20260415T150651Z
UID:10002131-1779177600-1779210000@sandwellcarers.org.uk
SUMMARY:Family Coffee Morning – Support for Dementia Carers
DESCRIPTION:Welcoming all who may be supporting a loved one with dementia. Come along for a relaxed coffee morning with others. Have a chat\, share stories or simply listen. \n\nLocation: Queensridge Court\, Queensway\, Oldbury\, B68 0LE\nTime: 10:30am – 12:30pm \nOccurs every Third Tuesday each month.
URL:https://sandwellcarers.org.uk/event/family-coffee-morning-support-for-dementia-carers/2026-05-19/
ATTACH;FMTTYPE=image/png:https://sandwellcarers.org.uk/wp-content/uploads/2026/04/Screenshot-2026-04-15-155052.png
END:VEVENT
BEGIN:VEVENT
DTSTART;TZID=UTC:20260519T100000
DTEND;TZID=UTC:20260519T150000
DTSTAMP:20260422T144838
CREATED:20251201T140350Z
LAST-MODIFIED:20251201T140350Z
UID:10000275-1779184800-1779202800@sandwellcarers.org.uk
SUMMARY:Cost of Living Advice Drop-In – Wednesbury Library
DESCRIPTION:Ongoing practical support around bills\, budgeting and energy costs\, which is especially relevant for Carers under financial pressure. \nWednesbury Library Cost of Living Advice Drop In. \nEvery Tuesday 10am-3pm \nWalsall Street\, Wednesbury\, West Midlands\, WS10 9EH \n  \nCost of Living Advice – Drop In at Wednesbury Library – Workshop in Wednesbury\, West Midlands – Visit Sandwell
URL:https://sandwellcarers.org.uk/event/cost-of-living-advice-drop-in-wednesbury-library/2026-05-19/
LOCATION:Wednesbury Library\, Walsall Street\, Wednesbury\,\, Wednesbury\, WS10 9EH
END:VEVENT
BEGIN:VEVENT
DTSTART;TZID=UTC:20260519T103000
DTEND;TZID=UTC:20260519T123000
DTSTAMP:20260422T144838
CREATED:20251215T105205Z
LAST-MODIFIED:20251215T105205Z
UID:10000444-1779186600-1779193800@sandwellcarers.org.uk
SUMMARY:Blackheath Library Carers Drop-in
DESCRIPTION:Every Third Tuesday of the month at Blackheath Library. \nBlackheath Library\, 145 High Street\, Rowley Regis\, B65 0EA. \n📞 0121 798 2372
URL:https://sandwellcarers.org.uk/event/blackheath-library-carers-drop-in/2026-05-19/
LOCATION:Blackheath Library\, Blackheath Library\, 145 High Street\, Rowley Regis\, B65 0EA\, Birmingham\, B65 0EA\, United Kingdom
ATTACH;FMTTYPE=image/svg+xml:https://sandwellcarers.org.uk/wp-content/uploads/2025/07/sandwell-carers-logo.svg
ORGANIZER;CN="Sandwell Carers Service (Age UK)":MAILTO:info@sandwellcarers.org.uk
END:VEVENT
END:VCALENDAR