BEGIN:VCALENDAR
VERSION:2.0
PRODID:-//Sandwell Carers - ECPv6.14.0//NONSGML v1.0//EN
CALSCALE:GREGORIAN
METHOD:PUBLISH
X-WR-CALNAME:Sandwell Carers
X-ORIGINAL-URL:https://sandwellcarers.org.uk
X-WR-CALDESC:Events for Sandwell Carers
REFRESH-INTERVAL;VALUE=DURATION:PT1H
X-Robots-Tag:noindex
X-PUBLISHED-TTL:PT1H
BEGIN:VTIMEZONE
TZID:UTC
BEGIN:STANDARD
TZOFFSETFROM:+0000
TZOFFSETTO:+0000
TZNAME:UTC
DTSTART:20260101T000000
END:STANDARD
END:VTIMEZONE
BEGIN:VEVENT
DTSTART;TZID=UTC:20260514T120000
DTEND;TZID=UTC:20260514T130000
DTSTAMP:20260420T073849
CREATED:20260414T111734Z
LAST-MODIFIED:20260414T111734Z
UID:10001873-1778760000-1778763600@sandwellcarers.org.uk
SUMMARY:Free Food Sessions - Table For All
DESCRIPTION:Join us for a free community food sessions are open to everyone\, offering support with no sign-ups or requirements—just turn up and take what you need. It’s a welcoming space focused on kindness and helping people access food easily. \n\nWhen:\n\nMondays: 1:30 PM – 2:30 PM\nThursdays: 12:00 PM – 1:00 PM\n\n\nWhere: Sunley Suite\, St Albans Community Association\, St Albans Road\, Smethwick\, B67 7NL\nNote: Bring your own bag\n\n 
URL:https://sandwellcarers.org.uk/event/free-food-sessions-table-for-all-2/2026-05-14/
LOCATION:St Albans Community Centre\, St Albans Community Centre Smethwick\, Birmingham\, B67 7NL
ATTACH;FMTTYPE=image/png:https://sandwellcarers.org.uk/wp-content/uploads/2026/04/Screenshot-2026-04-14-114733.png
END:VEVENT
END:VCALENDAR