BEGIN:VCALENDAR
VERSION:2.0
PRODID:-//Sandwell Carers - ECPv6.14.0//NONSGML v1.0//EN
CALSCALE:GREGORIAN
METHOD:PUBLISH
X-ORIGINAL-URL:https://sandwellcarers.org.uk
X-WR-CALDESC:Events for Sandwell Carers
REFRESH-INTERVAL;VALUE=DURATION:PT1H
X-Robots-Tag:noindex
X-PUBLISHED-TTL:PT1H
BEGIN:VTIMEZONE
TZID:UTC
BEGIN:STANDARD
TZOFFSETFROM:+0000
TZOFFSETTO:+0000
TZNAME:UTC
DTSTART:20260101T000000
END:STANDARD
END:VTIMEZONE
BEGIN:VEVENT
DTSTART;TZID=UTC:20260506T103000
DTEND;TZID=UTC:20260506T123000
DTSTAMP:20260420T074109
CREATED:20251215T114210Z
LAST-MODIFIED:20260127T120903Z
UID:10000684-1778063400-1778070600@sandwellcarers.org.uk
SUMMARY:Carers Drop-in Wednesbury Library
DESCRIPTION:Calling all Carers in Sandwell!\n\nAre you an unpaid Carer for a family member or friend in Sandwell? The Sandwell Carers Service is here to support you!\n\nOur friendly Sandwell Carers Outreach Advisors are holding drop-in sessions at local Sandwell Libraries. Come and have a free\, confidential chat about your caring role.\n\nOur advisors are there to offer you:\nA Carer’s Wellbeing Check\nPractical advice on Carer’s rights and available benefits\nInformation on local support groups and activities\nHelp with getting your Carer Friendly Photo ID Card\nNo need to book—just pop in during the times below!\n 1st Wednesday of each month\n Wednesbury Library\, Walsall Street\, Wednesbury\, WS10 9EH\nTime: 10.30am – 12.30pm\n\nIf you can’t make it to one of our drop in’s\, you can contact the Sandwell Carers Hub anytime for support:\n 0121 798 2372\n sandwellcarers.org.uk\n\nWe look forward to seeing you!
URL:https://sandwellcarers.org.uk/event/carers-drop-in-wednesbury-library/2026-05-06/
LOCATION:Wednesbury Library\, Walsall Street\, Wednesbury\,\, Wednesbury\, WS10 9EH
ATTACH;FMTTYPE=image/png:https://sandwellcarers.org.uk/wp-content/uploads/2025/12/Screenshot-2026-01-27-at-11.58.03.png
ORGANIZER;CN="Sandwell Carers Service (Age UK)":MAILTO:info@sandwellcarers.org.uk
END:VEVENT
END:VCALENDAR