BEGIN:VCALENDAR
VERSION:2.0
PRODID:-//Sandwell Carers - ECPv6.14.0//NONSGML v1.0//EN
CALSCALE:GREGORIAN
METHOD:PUBLISH
X-WR-CALNAME:Sandwell Carers
X-ORIGINAL-URL:https://sandwellcarers.org.uk
X-WR-CALDESC:Events for Sandwell Carers
REFRESH-INTERVAL;VALUE=DURATION:PT1H
X-Robots-Tag:noindex
X-PUBLISHED-TTL:PT1H
BEGIN:VTIMEZONE
TZID:UTC
BEGIN:STANDARD
TZOFFSETFROM:+0000
TZOFFSETTO:+0000
TZNAME:UTC
DTSTART:20260101T000000
END:STANDARD
END:VTIMEZONE
BEGIN:VEVENT
DTSTART;TZID=UTC:20260505T100000
DTEND;TZID=UTC:20260505T120000
DTSTAMP:20260420T073908
CREATED:20251215T112628Z
LAST-MODIFIED:20260127T121040Z
UID:10000804-1777975200-1777982400@sandwellcarers.org.uk
SUMMARY:Carers Drop-in Great Barr Library
DESCRIPTION:Calling all Carers in Sandwell!\n\nAre you an unpaid Carer for a family member or friend in Sandwell? The Sandwell Carers Service is here to support you!\n\nOur friendly Sandwell Carers Outreach Advisors are holding drop-in sessions at local Sandwell Libraries. Come and have a free\, confidential chat about your caring role.\n\nOur advisors are there to offer you:\nA Carer’s Wellbeing Check\nPractical advice on Carer’s rights and available benefits\nInformation on local support groups and activities\nHelp with getting your Carer Friendly Photo ID Card\nNo need to book—just pop in during the times below!\n 1st Tuesday of each month\n Great Barr Library\, Birmingham Road\, Scott Arms\, B43 6NW\nTime: 10.30am – 12.30pm\nIf you can’t make it to one of our drop in’s\, you can contact the Sandwell Carers Hub anytime for support:\n 0121 798 2372\n sandwellcarers.org.uk\n\nWe look forward to seeing you!
URL:https://sandwellcarers.org.uk/event/carers-drop-in-great-barr-library/2026-05-05/
LOCATION:Great Barr Library\, Great Barr Library\, Birmingham Road\, Scott Arms\, Birmingham\, B43 6NW\, United Kingdom
ATTACH;FMTTYPE=image/png:https://sandwellcarers.org.uk/wp-content/uploads/2025/12/Screenshot-2026-01-27-at-11.58.03.png
ORGANIZER;CN="Sandwell Carers Service (Age UK)":MAILTO:info@sandwellcarers.org.uk
END:VEVENT
BEGIN:VEVENT
DTSTART;TZID=UTC:20260505T100000
DTEND;TZID=UTC:20260505T150000
DTSTAMP:20260420T073908
CREATED:20251201T140350Z
LAST-MODIFIED:20251201T140350Z
UID:10000273-1777975200-1777993200@sandwellcarers.org.uk
SUMMARY:Cost of Living Advice Drop-In – Wednesbury Library
DESCRIPTION:Ongoing practical support around bills\, budgeting and energy costs\, which is especially relevant for Carers under financial pressure. \nWednesbury Library Cost of Living Advice Drop In. \nEvery Tuesday 10am-3pm \nWalsall Street\, Wednesbury\, West Midlands\, WS10 9EH \n  \nCost of Living Advice – Drop In at Wednesbury Library – Workshop in Wednesbury\, West Midlands – Visit Sandwell
URL:https://sandwellcarers.org.uk/event/cost-of-living-advice-drop-in-wednesbury-library/2026-05-05/
LOCATION:Wednesbury Library\, Walsall Street\, Wednesbury\,\, Wednesbury\, WS10 9EH
END:VEVENT
END:VCALENDAR