BEGIN:VCALENDAR
VERSION:2.0
PRODID:-//Sandwell Carers - ECPv6.14.0//NONSGML v1.0//EN
CALSCALE:GREGORIAN
METHOD:PUBLISH
X-WR-CALNAME:Sandwell Carers
X-ORIGINAL-URL:https://sandwellcarers.org.uk
X-WR-CALDESC:Events for Sandwell Carers
REFRESH-INTERVAL;VALUE=DURATION:PT1H
X-Robots-Tag:noindex
X-PUBLISHED-TTL:PT1H
BEGIN:VTIMEZONE
TZID:UTC
BEGIN:STANDARD
TZOFFSETFROM:+0000
TZOFFSETTO:+0000
TZNAME:UTC
DTSTART:20260101T000000
END:STANDARD
END:VTIMEZONE
BEGIN:VEVENT
DTSTART;TZID=UTC:20260420T103000
DTEND;TZID=UTC:20260420T113000
DTSTAMP:20260420T020505
CREATED:20260121T143801Z
LAST-MODIFIED:20260121T144326Z
UID:10001015-1776681000-1776684600@sandwellcarers.org.uk
SUMMARY:The Friendship Club (Weekly)
DESCRIPTION:Run by St Albans Community Association\, The Friendship Club is a friendly\, welcoming weekly group offering a safe space to connect with others\, enjoy social activities\, and feel supported. \nTaking place every Monday\, 10:30am–11:30am at St Albans Community Association\, Smethwick\, the group is open to anyone looking to make new friends\, enjoy relaxed conversation\, and access light-touch advice and signposting in a judgement-free environment. \nA great opportunity to build connections\, reduce loneliness\, and feel part of your local community. \n\n🗓️ Every Monday\n⏰ 10:30am – 11:30am\n📍 St Albans Road\, Smethwick\, B67 7NL\n🏷️ FREE\n\nFor more information\, call 0121 558 0018. \nAnyone is welcome\, we hope to see you there!
URL:https://sandwellcarers.org.uk/event/the-friendship-club-weekly/2026-04-20/
LOCATION:St Albans Community Centre\, St Albans Community Centre Smethwick\, Birmingham\, B67 7NL
ATTACH;FMTTYPE=image/png:https://sandwellcarers.org.uk/wp-content/uploads/2026/01/Screenshot-2026-01-21-at-14.39.17.png
ORGANIZER;CN="St Albans Community Association":MAILTO:INFO@STALBANS-CC.CO.UK
END:VEVENT
BEGIN:VEVENT
DTSTART;TZID=UTC:20260420T103000
DTEND;TZID=UTC:20260420T113000
DTSTAMP:20260420T020505
CREATED:20260414T094353Z
LAST-MODIFIED:20260414T094605Z
UID:10001088-1776681000-1776684600@sandwellcarers.org.uk
SUMMARY:Carers Coffee Catch-ups
DESCRIPTION:Join free Carers Coffee Catch-ups on Zoom Mondays & Fridays at 10:30am & Thursdays at 5pm. Connect\, share\, & find support with fellow carers \nIntroducing “Carers’ Coffee Catch-ups” by Kissing it Better in partnership with Forward Carers \nJoin us every Monday and Friday at 10:30 am and Thursdays at 5.00 pm on Zoom for heartwarming conversations and peer support\, designed exclusively for caregivers like you! \nAt Kissing it Better\, we understand the tireless efforts and dedication of carers\, and we believe you deserve a special space to unwind and connect with others who share similar experiences. That’s why we are delighted to present our “Carers’ Coffee Mornings” – a series of online gatherings crafted just for you! \nGrab your favorite tea or coffee\, and prepare to be uplifted by the power of community\, as you engage with fellow carers from the comfort of your home. \nShare your stories\, laugh\, and find solace in the company of those who understand the challenges and joys of caregiving. \nWhether you want to actively participate or simply listen in\, with or without your camera on – the choice is entirely yours. \nAnd the best part? It’s absolutely FREE! \nDon’t miss this chance to meet new friends\, forge meaningful connections\, and find the support you deserve as a caregiver. \nEvery Monday and Friday at 10:30 AM and Thursday at 5PM \nLet’s raise our cups to the incredible work you do as caregivers – we can’t wait to welcome you to our vibrant community! \nRegister to join here. \nOr you can email mail@kibmail.co.uk or call 07831 136152.
URL:https://sandwellcarers.org.uk/event/carers-coffee-catch-ups/2026-04-20/
LOCATION:Online
ATTACH;FMTTYPE=image/png:https://sandwellcarers.org.uk/wp-content/uploads/2026/04/Screenshot-2026-04-14-102537.png
ORGANIZER;CN="Kissing It Better":MAILTO:mail@kibmail.co.uk
END:VEVENT
BEGIN:VEVENT
DTSTART;TZID=UTC:20260420T110000
DTEND;TZID=UTC:20260420T120000
DTSTAMP:20260420T020506
CREATED:20260311T105224Z
LAST-MODIFIED:20260311T105224Z
UID:10001066-1776682800-1776686400@sandwellcarers.org.uk
SUMMARY:Coffee Mates at Cradley Heath Library
DESCRIPTION:On the third Monday of every month\, have a hot drink and chat at Cradley Heath Library. \nA chance to unwind\, relax\, and converse with likeminded people\, it is a fantastic opportunity to reset at the beginning of the week. \nIt runs from 11am – 12pm\, contact 0121 437 0033 or wellbeing@ageuksandwell.org.uk for more information.
URL:https://sandwellcarers.org.uk/event/coffee-mates-at-cradley-heath-library/2026-04-20/
LOCATION:Cradley Heath Library\, Cradley Heath Library\, Upper High Street\, Cradley Heath\, Sandwell\, B64 5JU
ATTACH;FMTTYPE=image/png:https://sandwellcarers.org.uk/wp-content/uploads/2026/03/Sandwell-WB-Activity-Timetable-March-26-2.png
ORGANIZER;CN="Sandwell Carers Service (Age UK)":MAILTO:info@sandwellcarers.org.uk
END:VEVENT
BEGIN:VEVENT
DTSTART;TZID=UTC:20260420T133000
DTEND;TZID=UTC:20260420T143000
DTSTAMP:20260420T020506
CREATED:20260414T105506Z
LAST-MODIFIED:20260414T105506Z
UID:10001609-1776691800-1776695400@sandwellcarers.org.uk
SUMMARY:Free Food Sessions - Table For All
DESCRIPTION:Join us for a free community food sessions are open to everyone\, offering support with no sign-ups or requirements—just turn up and take what you need. It’s a welcoming space focused on kindness and helping people access food easily. \n\nWhen:\n\nMondays: 1:30 PM – 2:30 PM\nThursdays: 12:00 PM – 1:00 PM\n\n\nWhere: Sunley Suite\, St Albans Community Association\, St Albans Road\, Smethwick\, B67 7NL\nNote: Bring your own bag\n\n  \n 
URL:https://sandwellcarers.org.uk/event/free-food-sessions-table-for-all/2026-04-20/
LOCATION:St Albans Community Centre\, St Albans Community Centre Smethwick\, Birmingham\, B67 7NL
ATTACH;FMTTYPE=image/png:https://sandwellcarers.org.uk/wp-content/uploads/2026/04/Screenshot-2026-04-14-114733.png
END:VEVENT
END:VCALENDAR