BEGIN:VCALENDAR
VERSION:2.0
PRODID:-//Sandwell Carers - ECPv6.14.0//NONSGML v1.0//EN
CALSCALE:GREGORIAN
METHOD:PUBLISH
X-WR-CALNAME:Sandwell Carers
X-ORIGINAL-URL:https://sandwellcarers.org.uk
X-WR-CALDESC:Events for Sandwell Carers
REFRESH-INTERVAL;VALUE=DURATION:PT1H
X-Robots-Tag:noindex
X-PUBLISHED-TTL:PT1H
BEGIN:VTIMEZONE
TZID:UTC
BEGIN:STANDARD
TZOFFSETFROM:+0000
TZOFFSETTO:+0000
TZNAME:UTC
DTSTART:20260101T000000
END:STANDARD
END:VTIMEZONE
BEGIN:VEVENT
DTSTART;TZID=UTC:20260413T103000
DTEND;TZID=UTC:20260413T113000
DTSTAMP:20260420T020325
CREATED:20260121T143801Z
LAST-MODIFIED:20260121T144326Z
UID:10001014-1776076200-1776079800@sandwellcarers.org.uk
SUMMARY:The Friendship Club (Weekly)
DESCRIPTION:Run by St Albans Community Association\, The Friendship Club is a friendly\, welcoming weekly group offering a safe space to connect with others\, enjoy social activities\, and feel supported. \nTaking place every Monday\, 10:30am–11:30am at St Albans Community Association\, Smethwick\, the group is open to anyone looking to make new friends\, enjoy relaxed conversation\, and access light-touch advice and signposting in a judgement-free environment. \nA great opportunity to build connections\, reduce loneliness\, and feel part of your local community. \n\n🗓️ Every Monday\n⏰ 10:30am – 11:30am\n📍 St Albans Road\, Smethwick\, B67 7NL\n🏷️ FREE\n\nFor more information\, call 0121 558 0018. \nAnyone is welcome\, we hope to see you there!
URL:https://sandwellcarers.org.uk/event/the-friendship-club-weekly/2026-04-13/
LOCATION:St Albans Community Centre\, St Albans Community Centre Smethwick\, Birmingham\, B67 7NL
ATTACH;FMTTYPE=image/png:https://sandwellcarers.org.uk/wp-content/uploads/2026/01/Screenshot-2026-01-21-at-14.39.17.png
ORGANIZER;CN="St Albans Community Association":MAILTO:INFO@STALBANS-CC.CO.UK
END:VEVENT
BEGIN:VEVENT
DTSTART;TZID=UTC:20260413T103000
DTEND;TZID=UTC:20260413T123000
DTSTAMP:20260420T020325
CREATED:20251215T111938Z
LAST-MODIFIED:20260127T121128Z
UID:10000862-1776076200-1776083400@sandwellcarers.org.uk
SUMMARY:Carers Drop-in Smethwick
DESCRIPTION:Calling all Carers in Sandwell!\n\nAre you an unpaid Carer for a family member or friend in Sandwell? The Sandwell Carers Service is here to support you!\n\nOur friendly Sandwell Carers Outreach Advisors are holding drop-in sessions at local Sandwell Libraries. Come and have a free\, confidential chat about your caring role.\n\nOur advisors are there to offer you:\nA Carer’s Wellbeing Check\nPractical advice on Carer’s rights and available benefits\nInformation on local support groups and activities\nHelp with getting your Carer Friendly Photo ID Card\nNo need to book—just pop in during the times below!\n 2nd Monday of each month\n📍Smethwick Library\, High Street\, B66 1AA\nTime: 1pm – 3pm\nIf you can’t make it to one of our drop in’s\, you can contact the Sandwell Carers Hub anytime for support:\n 0121 798 2372\n sandwellcarers.org.uk\n\nWe look forward to seeing you!
URL:https://sandwellcarers.org.uk/event/carers-drop-in-smethwick/2026-04-13/
LOCATION:Smethwick Library\, Smethwick Library\, High Street\, Smethwick\, Birmingham\, B66 1AA
ATTACH;FMTTYPE=image/png:https://sandwellcarers.org.uk/wp-content/uploads/2025/12/Screenshot-2026-01-27-at-11.58.03.png
ORGANIZER;CN="Sandwell Carers Service (Age UK)":MAILTO:info@sandwellcarers.org.uk
END:VEVENT
END:VCALENDAR