BEGIN:VCALENDAR
VERSION:2.0
PRODID:-//Sandwell Carers - ECPv6.14.0//NONSGML v1.0//EN
CALSCALE:GREGORIAN
METHOD:PUBLISH
X-WR-CALNAME:Sandwell Carers
X-ORIGINAL-URL:https://sandwellcarers.org.uk
X-WR-CALDESC:Events for Sandwell Carers
REFRESH-INTERVAL;VALUE=DURATION:PT1H
X-Robots-Tag:noindex
X-PUBLISHED-TTL:PT1H
BEGIN:VTIMEZONE
TZID:UTC
BEGIN:STANDARD
TZOFFSETFROM:+0000
TZOFFSETTO:+0000
TZNAME:UTC
DTSTART:20260101T000000
END:STANDARD
END:VTIMEZONE
BEGIN:VEVENT
DTSTART;TZID=UTC:20260409T100000
DTEND;TZID=UTC:20260409T140000
DTSTAMP:20260419T204327
CREATED:20260316T152107Z
LAST-MODIFIED:20260316T152135Z
UID:10001083-1775728800-1775743200@sandwellcarers.org.uk
SUMMARY:Youth Service Easter Holiday Club - April 2026
DESCRIPTION:Sandwell Deaf Community Association is hosting a FREE Easter Holiday Club for D/deaf\, Hard of Hearing\, Deafblind\, and cochlear implant users aged 8–17. Join us for a fun week of activities\, trips\, and making new friends! \n📅 7–10 April 2026\n⏰ 10am – 2pm \nJoin us in fun activities in various activities!   \nTrip to Forge Mill Farm – Tuesday 7th \nCycling at Sandwell Aquatics Centre – Wednesday 8th \nVisit to Black Country Living Museum – Thursday 9th \nCooking session with Punk Chef – Friday 10th \n🍽 Hot and cold food will be provided.\n⚠️ Places are limited and allocated on a first-come\, first-served basis. \n📍 Based at Sandwell Deaf Community Association \nClick here  To register your interest \nFor more information contact Craig Pothecary (Wellbeing Coach)\n✉️ craig_pothecary@sdca.co.uk\n📱 07791 921011
URL:https://sandwellcarers.org.uk/event/youth-service-easter-holiday-club-april-2026/2026-04-09/
LOCATION:Sandwell Deaf Commmunity\, New Deaf Centre Summer Street\, Birmingham\, West Bromwich West Midlands\, B71 4JA
ATTACH;FMTTYPE=image/png:https://sandwellcarers.org.uk/wp-content/uploads/2026/03/Screenshot-2026-03-16-151946.png
END:VEVENT
END:VCALENDAR