BEGIN:VCALENDAR
VERSION:2.0
PRODID:-//Sandwell Carers - ECPv6.14.0//NONSGML v1.0//EN
CALSCALE:GREGORIAN
METHOD:PUBLISH
X-ORIGINAL-URL:https://sandwellcarers.org.uk
X-WR-CALDESC:Events for Sandwell Carers
REFRESH-INTERVAL;VALUE=DURATION:PT1H
X-Robots-Tag:noindex
X-PUBLISHED-TTL:PT1H
BEGIN:VTIMEZONE
TZID:UTC
BEGIN:STANDARD
TZOFFSETFROM:+0000
TZOFFSETTO:+0000
TZNAME:UTC
DTSTART:20260101T000000
END:STANDARD
END:VTIMEZONE
BEGIN:VEVENT
DTSTART;TZID=UTC:20260324T100000
DTEND;TZID=UTC:20260324T150000
DTSTAMP:20260419T172743
CREATED:20251201T140350Z
LAST-MODIFIED:20251201T140350Z
UID:10000267-1774346400-1774364400@sandwellcarers.org.uk
SUMMARY:Cost of Living Advice Drop-In – Wednesbury Library
DESCRIPTION:Ongoing practical support around bills\, budgeting and energy costs\, which is especially relevant for Carers under financial pressure. \nWednesbury Library Cost of Living Advice Drop In. \nEvery Tuesday 10am-3pm \nWalsall Street\, Wednesbury\, West Midlands\, WS10 9EH \n  \nCost of Living Advice – Drop In at Wednesbury Library – Workshop in Wednesbury\, West Midlands – Visit Sandwell
URL:https://sandwellcarers.org.uk/event/cost-of-living-advice-drop-in-wednesbury-library/2026-03-24/
LOCATION:Wednesbury Library\, Walsall Street\, Wednesbury\,\, Wednesbury\, WS10 9EH
END:VEVENT
END:VCALENDAR