BEGIN:VCALENDAR
VERSION:2.0
PRODID:-//Sandwell Carers - ECPv6.14.0//NONSGML v1.0//EN
CALSCALE:GREGORIAN
METHOD:PUBLISH
X-ORIGINAL-URL:https://sandwellcarers.org.uk
X-WR-CALDESC:Events for Sandwell Carers
REFRESH-INTERVAL;VALUE=DURATION:PT1H
X-Robots-Tag:noindex
X-PUBLISHED-TTL:PT1H
BEGIN:VTIMEZONE
TZID:UTC
BEGIN:STANDARD
TZOFFSETFROM:+0000
TZOFFSETTO:+0000
TZNAME:UTC
DTSTART:20260101T000000
END:STANDARD
END:VTIMEZONE
BEGIN:VEVENT
DTSTART;TZID=UTC:20260323T090000
DTEND;TZID=UTC:20260323T143000
DTSTAMP:20260423T142729
CREATED:20260311T103415Z
LAST-MODIFIED:20260311T103425Z
UID:10001064-1774256400-1774276200@sandwellcarers.org.uk
SUMMARY:Liver Health Checks West Bromwich
DESCRIPTION:Monday 23rd March\, 9am – 2:30pm at the Lyng Health Centre \nThe Community Liver Health Checks (CLHC) pilot programme is currently running across the West Midlands\, aimed at identifying people at higher risk of liver disease and liver cancer. \nThis programme supports the NHS Long Term Plan ambition to diagnose cancers earlier and focuses on prevention\, early detection\, and reducing health inequalities. \nAs part of this work\, they use a mobile liver health bus equipped to provide FibroScan assessments and related checks for eligible adults in the community. These checks are non-invasive and help identify early liver damage so that people can be referred for appropriate follow-up and surveillance where needed. \nEligibility Criteria: \n\nAdults aged 18-75 with alcohol consumption greater than 14 units per week\nAdults aged 18-75 with a history of Hepatitis B or C\nAdults aged over 50 with MASLD (fatty liver disease)\nAdults aged over 50 with Type II diabetes and a BMI over 30 (or over 27\, depending on ethnicity)\n\nJust turn up\, no appointment needed! Please see and share attached ‘Lyng health centre’ and ‘Liver Health Checks Lyng’. \nThe liver bus will also be visiting the below towns: \n\n9 March – Oldbury\, Civic Square\n9 April – Cradley Heath\, Salvation Army\n14 April – Wednesbury Leisure Centre
URL:https://sandwellcarers.org.uk/event/liver-health-checks-west-bromwich/
LOCATION:The Lyng Health Centre\, The Lyng Health Centre\, Frank Fisher Way\, West Bromwich\, West Midlands\, Birmingham\, B70 7AW\, United Kingdom
ATTACH;FMTTYPE=image/png:https://sandwellcarers.org.uk/wp-content/uploads/2026/03/Liver-Health-Checks-Lyng.png
END:VEVENT
BEGIN:VEVENT
DTSTART;TZID=UTC:20260323T103000
DTEND;TZID=UTC:20260323T113000
DTSTAMP:20260423T142729
CREATED:20260121T143801Z
LAST-MODIFIED:20260121T144326Z
UID:10001011-1774261800-1774265400@sandwellcarers.org.uk
SUMMARY:The Friendship Club (Weekly)
DESCRIPTION:Run by St Albans Community Association\, The Friendship Club is a friendly\, welcoming weekly group offering a safe space to connect with others\, enjoy social activities\, and feel supported. \nTaking place every Monday\, 10:30am–11:30am at St Albans Community Association\, Smethwick\, the group is open to anyone looking to make new friends\, enjoy relaxed conversation\, and access light-touch advice and signposting in a judgement-free environment. \nA great opportunity to build connections\, reduce loneliness\, and feel part of your local community. \n\n🗓️ Every Monday\n⏰ 10:30am – 11:30am\n📍 St Albans Road\, Smethwick\, B67 7NL\n🏷️ FREE\n\nFor more information\, call 0121 558 0018. \nAnyone is welcome\, we hope to see you there!
URL:https://sandwellcarers.org.uk/event/the-friendship-club-weekly/2026-03-23/
LOCATION:St Albans Community Centre\, St Albans Community Centre Smethwick\, Birmingham\, B67 7NL
ATTACH;FMTTYPE=image/png:https://sandwellcarers.org.uk/wp-content/uploads/2026/01/Screenshot-2026-01-21-at-14.39.17.png
ORGANIZER;CN="St Albans Community Association":MAILTO:INFO@STALBANS-CC.CO.UK
END:VEVENT
BEGIN:VEVENT
DTSTART;TZID=UTC:20260323T140000
DTEND;TZID=UTC:20260323T160000
DTSTAMP:20260423T142729
CREATED:20260311T133949Z
LAST-MODIFIED:20260311T133949Z
UID:10001075-1774274400-1774281600@sandwellcarers.org.uk
SUMMARY:Coseley Library Drop-in
DESCRIPTION:Coseley Library are opening their doors to allow people a warm space to enjoy friendly chat\, have a cuppa\, or just charge a phone. \nFeel free to drop in anytime on Mondays between 2pm-4pm.
URL:https://sandwellcarers.org.uk/event/coseley-library-drop-in/2026-03-23/
LOCATION:Coseley Library\, Castle Street\, Bilston\, West Midlands\, Birmingham\, WV14 9DW
ATTACH;FMTTYPE=application/pdf:https://sandwellcarers.org.uk/wp-content/uploads/2026/03/warm-spaces-Coseley-Library.pdf
END:VEVENT
END:VCALENDAR