BEGIN:VCALENDAR
VERSION:2.0
PRODID:-//Sandwell Carers - ECPv6.14.0//NONSGML v1.0//EN
CALSCALE:GREGORIAN
METHOD:PUBLISH
X-ORIGINAL-URL:https://sandwellcarers.org.uk
X-WR-CALDESC:Events for Sandwell Carers
REFRESH-INTERVAL;VALUE=DURATION:PT1H
X-Robots-Tag:noindex
X-PUBLISHED-TTL:PT1H
BEGIN:VTIMEZONE
TZID:UTC
BEGIN:STANDARD
TZOFFSETFROM:+0000
TZOFFSETTO:+0000
TZNAME:UTC
DTSTART:20260101T000000
END:STANDARD
END:VTIMEZONE
BEGIN:VEVENT
DTSTART;TZID=UTC:20260320T090000
DTEND;TZID=UTC:20260320T113000
DTSTAMP:20260419T225241
CREATED:20260126T152228Z
LAST-MODIFIED:20260126T152315Z
UID:10001044-1773997200-1774006200@sandwellcarers.org.uk
SUMMARY:Greets Green Computer Classes and Digital Skills
DESCRIPTION:Computer\, IT\, and Digital Classes\, FREE  for adults! \n\nDo you want to learn how to use a computer\nLearn a new skill\nBuild your confidence & Motivation\nIncrease your employment and volunteering chances\n\nThe sessions will take place every Friday from 9:30am – 11:00am\, at Wood Lane Community Centre\, 157 Woodlane\, West Bromwich\, B70 9PT. \nPlease email or what’s app your name and number to register on 0121 525 2772 or info@ggce.co.uk.
URL:https://sandwellcarers.org.uk/event/greets-green-computer-classes-and-digital-skills/2026-03-20/
LOCATION:Wood Lane Community Centre\, 157 Wood Ln\,\, Birmingham\, West Bromwich\, B70 9PT
ATTACH;FMTTYPE=image/png:https://sandwellcarers.org.uk/wp-content/uploads/2026/01/Screenshot-2026-01-26-at-15.21.52.png
END:VEVENT
END:VCALENDAR