BEGIN:VCALENDAR
VERSION:2.0
PRODID:-//Sandwell Carers - ECPv6.14.0//NONSGML v1.0//EN
CALSCALE:GREGORIAN
METHOD:PUBLISH
X-WR-CALNAME:Sandwell Carers
X-ORIGINAL-URL:https://sandwellcarers.org.uk
X-WR-CALDESC:Events for Sandwell Carers
REFRESH-INTERVAL;VALUE=DURATION:PT1H
X-Robots-Tag:noindex
X-PUBLISHED-TTL:PT1H
BEGIN:VTIMEZONE
TZID:UTC
BEGIN:STANDARD
TZOFFSETFROM:+0000
TZOFFSETTO:+0000
TZNAME:UTC
DTSTART:20260101T000000
END:STANDARD
END:VTIMEZONE
BEGIN:VEVENT
DTSTART;TZID=UTC:20260217T100000
DTEND;TZID=UTC:20260217T150000
DTSTAMP:20260423T143323
CREATED:20251201T140350Z
LAST-MODIFIED:20251201T140350Z
UID:10000262-1771322400-1771340400@sandwellcarers.org.uk
SUMMARY:Cost of Living Advice Drop-In – Wednesbury Library
DESCRIPTION:Ongoing practical support around bills\, budgeting and energy costs\, which is especially relevant for Carers under financial pressure. \nWednesbury Library Cost of Living Advice Drop In. \nEvery Tuesday 10am-3pm \nWalsall Street\, Wednesbury\, West Midlands\, WS10 9EH \n  \nCost of Living Advice – Drop In at Wednesbury Library – Workshop in Wednesbury\, West Midlands – Visit Sandwell
URL:https://sandwellcarers.org.uk/event/cost-of-living-advice-drop-in-wednesbury-library/2026-02-17/
LOCATION:Wednesbury Library\, Walsall Street\, Wednesbury\,\, Wednesbury\, WS10 9EH
END:VEVENT
BEGIN:VEVENT
DTSTART;TZID=UTC:20260217T103000
DTEND;TZID=UTC:20260217T123000
DTSTAMP:20260423T143323
CREATED:20251215T105205Z
LAST-MODIFIED:20251215T105205Z
UID:10000441-1771324200-1771331400@sandwellcarers.org.uk
SUMMARY:Blackheath Library Carers Drop-in
DESCRIPTION:Every Third Tuesday of the month at Blackheath Library. \nBlackheath Library\, 145 High Street\, Rowley Regis\, B65 0EA. \n📞 0121 798 2372
URL:https://sandwellcarers.org.uk/event/blackheath-library-carers-drop-in/2026-02-17/
LOCATION:Blackheath Library\, Blackheath Library\, 145 High Street\, Rowley Regis\, B65 0EA\, Birmingham\, B65 0EA\, United Kingdom
ATTACH;FMTTYPE=image/svg+xml:https://sandwellcarers.org.uk/wp-content/uploads/2025/07/sandwell-carers-logo.svg
ORGANIZER;CN="Sandwell Carers Service (Age UK)":MAILTO:info@sandwellcarers.org.uk
END:VEVENT
BEGIN:VEVENT
DTSTART;TZID=UTC:20260217T103000
DTEND;TZID=UTC:20260217T123000
DTSTAMP:20260423T143323
CREATED:20260121T151455Z
LAST-MODIFIED:20260121T151455Z
UID:10001023-1771324200-1771331400@sandwellcarers.org.uk
SUMMARY:Family Coffee Morning
DESCRIPTION:Do you have a family member living with dementia? \nCome along to Bud’s coffee morning to receive support\, meet other people\, get information and advice\, andhave a break. \nThe coffee morning takes place at Queensridge Court\, Queensway\, Oldbury B68 0LE. \nIt will be held on Tuesday 17th February 2026\, 10.30am–12.30pm. \nCan’t make it? Family Coffee Morning will run again on the Tuesday 17th March 2026! \nThis is a relaxed\, friendly space to enjoy a cuppa and a chat\, share experiences\, and connect with others who understand. You’ll find support\, empathy and practical advice — and you’re very welcome to pop in for the whole session or just for a short while. \nFor more information\, contact Better Understanding of Dementia for Sandwell (BUDS) on 0121 565 3721 or visit buds.co.uk.
URL:https://sandwellcarers.org.uk/event/family-coffee-morning/
LOCATION:Queensridge Court\, Queensridge Court\, Queensway\, Oldbury\, B68 0LE\, B68 0LE
ATTACH;FMTTYPE=image/png:https://sandwellcarers.org.uk/wp-content/uploads/2026/01/Screenshot-2026-01-15-at-14.26.36.png
END:VEVENT
BEGIN:VEVENT
DTSTART;TZID=UTC:20260217T163000
DTEND;TZID=UTC:20260217T181500
DTSTAMP:20260423T143323
CREATED:20260126T155205Z
LAST-MODIFIED:20260126T155920Z
UID:10001050-1771345800-1771352100@sandwellcarers.org.uk
SUMMARY:Choices Family Cooking
DESCRIPTION:Looking for a fun activity to do together as a family? Join FREE Family Cooking sessions with Choices at Dorothy Parkes Centre\, Smethwick. \nLearn to make simple\, tasty meals and enjoy quality time together. \n\n📅 Tuesdays from 27 January\n⏰ 4:30–6:15pm\n📍 Dorothy Parks Centre\, Smethwick\, B67 6EH\n👧 Suitable for children aged 4+\n\nBook now at www.bookwhen.com/choices. \nThere are also sessions on Mondays\, which can be found here.
URL:https://sandwellcarers.org.uk/event/choices-family-cooking/2026-02-17/
LOCATION:Dorothy Parks Centre\, Dorothy Parkes Centre\, Smethwick\, B67 6EH
ATTACH;FMTTYPE=image/png:https://sandwellcarers.org.uk/wp-content/uploads/2026/01/Screenshot-2026-01-26-at-15.44.45.png
END:VEVENT
END:VCALENDAR