BEGIN:VCALENDAR
VERSION:2.0
PRODID:-//Sandwell Carers - ECPv6.14.0//NONSGML v1.0//EN
CALSCALE:GREGORIAN
METHOD:PUBLISH
X-ORIGINAL-URL:https://sandwellcarers.org.uk
X-WR-CALDESC:Events for Sandwell Carers
REFRESH-INTERVAL;VALUE=DURATION:PT1H
X-Robots-Tag:noindex
X-PUBLISHED-TTL:PT1H
BEGIN:VTIMEZONE
TZID:UTC
BEGIN:STANDARD
TZOFFSETFROM:+0000
TZOFFSETTO:+0000
TZNAME:UTC
DTSTART:20250101T000000
END:STANDARD
END:VTIMEZONE
BEGIN:VEVENT
DTSTART;TZID=UTC:20251230T100000
DTEND;TZID=UTC:20251230T150000
DTSTAMP:20260424T110943
CREATED:20251201T140350Z
LAST-MODIFIED:20251201T140350Z
UID:10000255-1767088800-1767106800@sandwellcarers.org.uk
SUMMARY:Cost of Living Advice Drop-In – Wednesbury Library
DESCRIPTION:Ongoing practical support around bills\, budgeting and energy costs\, which is especially relevant for Carers under financial pressure. \nWednesbury Library Cost of Living Advice Drop In. \nEvery Tuesday 10am-3pm \nWalsall Street\, Wednesbury\, West Midlands\, WS10 9EH \n  \nCost of Living Advice – Drop In at Wednesbury Library – Workshop in Wednesbury\, West Midlands – Visit Sandwell
URL:https://sandwellcarers.org.uk/event/cost-of-living-advice-drop-in-wednesbury-library/2025-12-30/
LOCATION:Wednesbury Library\, Walsall Street\, Wednesbury\,\, Wednesbury\, WS10 9EH
END:VEVENT
BEGIN:VEVENT
DTSTART;TZID=UTC:20251230T120000
DTEND;TZID=UTC:20251230T170000
DTSTAMP:20260424T110943
CREATED:20251208T111342Z
LAST-MODIFIED:20251208T111342Z
UID:10000314-1767096000-1767114000@sandwellcarers.org.uk
SUMMARY:ROWLEY: GO PLAY WINTER EVENT
DESCRIPTION:Join the FREE Go Play Winter Event in Rowley this Holiday Season! \nThis session is perfect for families with children and young people aged 6-12 years (up to 16 years for those with special educational needs and disabilities). \nNo need to pre-book—just come along\, have fun and PLAY!
URL:https://sandwellcarers.org.uk/event/rowley-go-play-winter-event/
LOCATION:Rowley Regis Parish Church\, Rowley Regis Parish Church\, Church Road\, Rowley Regis\, Birmingham\, B65 9EP
ATTACH;FMTTYPE=image/png:https://sandwellcarers.org.uk/wp-content/uploads/2025/12/Screenshot-2025-12-08-at-11.10.20.png
END:VEVENT
BEGIN:VEVENT
DTSTART;TZID=UTC:20251230T130000
DTEND;TZID=UTC:20251230T160000
DTSTAMP:20260424T110943
CREATED:20251208T101624Z
LAST-MODIFIED:20251208T102749Z
UID:10000308-1767099600-1767110400@sandwellcarers.org.uk
SUMMARY:Nearly New Year Family Rave and Festive Lunch! (Brasshouse Community Centre)
DESCRIPTION:Looking for an amazing\, zero-cost activity to enjoy with the kids between Christmas and New Year’s? \nJoin the Nearly New Year Family Rave\, where we provide the music\, the fun\, and a delicious hot meal — Completely free! \nThis free event is all about creating brilliant memories in a safe\, fun\, and inclusive environment. Say goodbye to the post-Christmas lull and hello to a fantastic family day out! \nYour FREE Party ticket Includes: \n\nEntry for the Whole Family: Everyone is welcome!\n3 Hours of Fun: Dancing\, games\, and an energetic atmosphere.\nA free Hot Meal: No need to worry about lunch—we’re providing a tasty\, hot meal and refreshing drinks for every guest.\n\nWhen: Tuesday 30 December 2025\, 1:00pm – 4:00pm \nWhere: Brasshouse Community Centre\, Smethwick\, B66 1BA \nClick HERE to book your place.
URL:https://sandwellcarers.org.uk/event/nearly-new-year-family-rave-and-festive-lunch/
LOCATION:Brasshouse Community Centre\, Brasshouse Community Centre\, Smethwick\, Birmingham\, B66 1BA\, United Kingdom
ATTACH;FMTTYPE=image/png:https://sandwellcarers.org.uk/wp-content/uploads/2025/12/Screenshot-2025-12-08-at-10.12.17.png
END:VEVENT
BEGIN:VEVENT
DTSTART;TZID=UTC:20251230T130000
DTEND;TZID=UTC:20251230T160000
DTSTAMP:20260424T110943
CREATED:20251208T102126Z
LAST-MODIFIED:20251208T102834Z
UID:10000309-1767099600-1767110400@sandwellcarers.org.uk
SUMMARY:Nearly New Year Family Rave and Festive Lunch! (Sandwell Visitor Centre)
DESCRIPTION:Looking for an amazing\, zero-cost activity to enjoy with the kids between Christmas and New Year’s? \nJoin for the Nearly New Year Family Rave\, where we provide the music\, the fun\, and a delicious hot meal — Completely free! \nThis free event is all about creating brilliant memories in a safe\, fun\, and inclusive environment. Say goodbye to the post-Christmas lull and hello to a fantastic family day out! \nYour FREE Party ticket Includes: \n\nEntry for the Whole Family: Everyone is welcome!\n3 Hours of Fun: Dancing\, games\, and an energetic atmosphere.\nA free Hot Meal: No need to worry about lunch—we’re providing a tasty\, hot meal and refreshing drinks for every guest.\n\nWhen: Tuesday 30 December 2025\, 1:00pm – 4:00pm \nWhere: Sandwell Valley Visitor Centre\, West Bromwich\, B71 4BG \nClick HERE to book.
URL:https://sandwellcarers.org.uk/event/nearly-new-year-family-rave-and-festive-lunch-2/
LOCATION:Sandwell Valley Visitor Centre\, Sandwell Valley Visitor Centre\, West Bromwich\,\, Birmingham\, B714BG
ATTACH;FMTTYPE=image/png:https://sandwellcarers.org.uk/wp-content/uploads/2025/12/Screenshot-2025-12-08-at-10.12.17.png
END:VEVENT
END:VCALENDAR