BEGIN:VCALENDAR
VERSION:2.0
PRODID:-//Sandwell Carers - ECPv6.14.0//NONSGML v1.0//EN
CALSCALE:GREGORIAN
METHOD:PUBLISH
X-ORIGINAL-URL:https://sandwellcarers.org.uk
X-WR-CALDESC:Events for Sandwell Carers
REFRESH-INTERVAL;VALUE=DURATION:PT1H
X-Robots-Tag:noindex
X-PUBLISHED-TTL:PT1H
BEGIN:VTIMEZONE
TZID:UTC
BEGIN:STANDARD
TZOFFSETFROM:+0000
TZOFFSETTO:+0000
TZNAME:UTC
DTSTART:20250101T000000
END:STANDARD
END:VTIMEZONE
BEGIN:VEVENT
DTSTART;TZID=UTC:20251229T100000
DTEND;TZID=UTC:20251229T140000
DTSTAMP:20260424T125930
CREATED:20251208T163500Z
LAST-MODIFIED:20251208T163617Z
UID:10000316-1767002400-1767016800@sandwellcarers.org.uk
SUMMARY:SITC Winter HAF Fun – St Johns
DESCRIPTION:HAF will be providing a minimum of 1 hour per day of fun and engaging physical activity during our HAF provision. \nPhysical activities will be delivered both outdoors within the community centre grounds and indoors in the main hall. Children will be able to choose from a variety of different activities on a daily basis. \nActivities will include: \n\nTeam Sports & Fitness: Boxing\, Football\, Basketball\, and Dance activities.\nFun Games: Capture the Flag\, Tag\, and mini sport races (such as egg and spoon races\, sack races\, etc.).\nIndoor Fitness: We have a Nintendo Wii Fitness system\, providing children with an indoor option for fitness and sports games.\n\nThe enrichment activities are engaging experiences that support the development of resilience\, character\, wellbeing\, and wider educational attainment. These activities help children build confidence\, social skills\, and a love of learning. Indoor activities will be a mixture of structured\, unstructured activities\, and free play\, allowing children to choose what they would like to do. \nAvailable activities will include: \n\nArts and Crafts: Including model making/painting\, utilising recyclable and natural materials (twigs\, leaves\, conkers\, cardboard\, newspaper\, bottles\, etc.).\nGames: Dominoes\, board games\, Connect 4\, and Snooker.\nHealthy Cooking Activities: Hands-on sessions making items such as fruit kebabs\, healthy noodles\, flapjacks\, healthy cupcakes and cookies\, and fruit granola yogurts.\nExternal Visits: We will host visits from external agencies\, such as Healthy Sandwell and Digbeth Dining Club\, to deliver cooking sessions and speak about healthy eating and the importance of balanced diets.\n\nFor more information of location\, details\, eligibility\, and how to book\, CLICK HERE.
URL:https://sandwellcarers.org.uk/event/sitc-winter-haf-fun-st-johns-2/
ATTACH;FMTTYPE=image/png:https://sandwellcarers.org.uk/wp-content/uploads/2025/12/Screenshot-2025-12-08-at-16.35.59.png
END:VEVENT
END:VCALENDAR